BEGIN:VCALENDAR
VERSION:2.0
PRODID:-//wp-events-plugin.com//7.1.7//EN
TZID:Europe/Kyiv
X-WR-TIMEZONE:Europe/Kyiv
BEGIN:VEVENT
UID:72@woman-go.academy
DTSTART;TZID=Europe/Kyiv:20240517T150000
DTEND;TZID=Europe/Kyiv:20240517T190000
DTSTAMP:20240516T191744Z
URL:https://woman-go.academy/events/big-training-day-u-travni-na-temu-shtu
 chnyj-intelekt-chat-boty-dlya-biznesu/
SUMMARY:BIG TRAINING DAY У ТРАВНІ НА ТЕМУ: "ШТУЧНИЙ І
 НТЕЛЕКТ & ЧАТ-БОТИ ДЛЯ БІЗНЕСУ"
DESCRIPTION:Найкорисніший день у вашому житті 
 від експертів та перших осіб українськи
 х IT агенцій!🤩\nСаме так можна описати BIG T
 RAINING DAY на тему “ШТУЧНИЙ ІНТЕЛЕКТ & ЧАТ-БО
 ТИ ДЛЯ БІЗНЕСУ”\, який відбудеться у тра
 вні. \n
ATTACH;FMTTYPE=image/jpeg:https://woman-go.academy/wp-content/uploads/2024
 /04/photo_2024-04-23_18-13-46.jpg
CATEGORIES:Інтерв'ю з
 експертами,Маркетинг,Натхнення на дії
END:VEVENT
BEGIN:VTIMEZONE
TZID:Europe/Kyiv
X-LIC-LOCATION:Europe/Kyiv
BEGIN:DAYLIGHT
DTSTART:20240331T040000
TZOFFSETFROM:+0200
TZOFFSETTO:+0300
TZNAME:EEST
END:DAYLIGHT
END:VTIMEZONE
END:VCALENDAR