BEGIN:VCALENDAR
VERSION:2.0
PRODID:-//wp-events-plugin.com//7.1.7//EN
TZID:Europe/Kyiv
X-WR-TIMEZONE:Europe/Kyiv
BEGIN:VEVENT
UID:70@woman-go.academy
DTSTART;TZID=Europe/Kyiv:20240418T180000
DTEND;TZID=Europe/Kyiv:20240418T190000
DTSTAMP:20240502T131307Z
URL:https://woman-go.academy/events/yak-stvoryty-imidzh-personalnogo-brend
 u/
SUMMARY:Як створити імідж персонального бре
 нду?
DESCRIPTION:Олена Штогріна - засновник та трен
 ер автор освітніх програм у ШКОЛІ ПЕРСОН
 АЛЬНОГО ІМІДЖУ Імідж-експерт в GRAND FINAL MISS 
 USSR UK 2019 в Лондоні і MISS USSR UK 2018 в Монако Авт
 орка книги по іміджу "ІМІДЖBOOK
ATTACH;FMTTYPE=image/jpeg:https://woman-go.academy/wp-content/uploads/2024
 /03/yak-stvoryty-imidzh-personalnogo-brendu.jpg
CATEGORIES:Інтерв'ю з
 експертами,Маркетинг,Натхнення на дії
END:VEVENT
BEGIN:VTIMEZONE
TZID:Europe/Kyiv
X-LIC-LOCATION:Europe/Kyiv
BEGIN:DAYLIGHT
DTSTART:20240331T040000
TZOFFSETFROM:+0200
TZOFFSETTO:+0300
TZNAME:EEST
END:DAYLIGHT
END:VTIMEZONE
END:VCALENDAR